BEGIN:VCALENDAR
VERSION:2.0
PRODID:-//ChamberMaster//Event Calendar 2.0//EN
METHOD:PUBLISH
X-PUBLISHED-TTL:P1H
REFRESH-INTERVAL:P1H
CALSCALE:GREGORIAN
BEGIN:VTIMEZONE
TZID:America/New_York
BEGIN:DAYLIGHT
RRULE:FREQ=YEARLY;BYMONTH=3;BYDAY=2SU
DTSTART:20070101T000000
TZOFFSETFROM:-0500
TZOFFSETTO:-0400
TZNAME:Eastern Daylight Time
END:DAYLIGHT
BEGIN:STANDARD
RRULE:FREQ=YEARLY;BYMONTH=11;BYDAY=1SU
DTSTART:20070101T000000
TZOFFSETFROM:-0400
TZOFFSETTO:-0500
TZNAME:Eastern Standard Time
END:STANDARD
END:VTIMEZONE
BEGIN:VEVENT
DTSTART;TZID=America/New_York:20260615T130000
DTEND;TZID=America/New_York:20260619T110000
X-MICROSOFT-CDO-ALLDAYEVENT:FALSE
SUMMARY:Truett: Boys Camp
DESCRIPTION:For ages 7-17 to experience epic adventure. The boys will grow in self-confidence and a love for the outdoors. Plus\, we will clearly share the Gospel and help them deepen their faith.
X-ALT-DESC;FMTTYPE=text/html:For ages 7-17 to experience epic adventure. The boys will grow in self-confidence and a love for the outdoors. Plus\, we will clearly share the Gospel and help them deepen their faith.
LOCATION:177 Truett Lane Hayesville NC 28904
UID:e.2517.1445366
SEQUENCE:3
DTSTAMP:20260421T104214Z
URL:https://business.claychambernc.com/calendar/Details/truett-boys-camp-1711862?sourceTypeId=Hub
END:VEVENT
END:VCALENDAR
